BEGIN:VCALENDAR
VERSION:2.0
METHOD:PUBLISH
X-WR-CALNAME:VFEK |  június 01 2009- június 01 2009
PRODID:-//strange bird labs//Drupal iCal API//EN
BEGIN:VEVENT
DTSTAMP;VALUE=DATE-TIME:20260420T141135Z
DTSTART;VALUE=DATE-TIME:20090423T160000Z
DTEND;VALUE=DATE-TIME:20090724T170000Z
UID:http://portal.vfmk.hu/01112009042002
URL;VALUE=URI:http://portal.vfmk.hu/01112009042002
SUMMARY:Kis Krisztián Bálint kiállítása
DESCRIPTION:<p class=\\"rtecenter\\"><span style=\\"font-size\: medium\;\\"><strong><span style=\\"font-family\: Verdana\;\\">MEGH&Iacute\;V&Oacute\;</span></strong></span><span style=\\"font-size\: small\;\\"><span style=\\"font-family\: Verdana\;\\"><br />
 </span></span></p>
 <p class=\\"rtecenter\\"><span style=\\"font-size\: small\;\\"><span style=\\"font-family\: Verdana\;\\">Sok szeretettel &eacute\;s tisztelettel megh&iacute\;vjuk &Ouml\;nt &eacute\;s kedves csal&aacute\;dj&aacute\;t\, bar&aacute\;tait\, ismerőseit<br />
 </span></span></p>
 <p class=\\"rtecenter\\"><span style=\\"font-size\: medium\;\\"><span style=\\"font-family\: Verdana\;\\"><strong>Kis Kriszti&aacute\;n B&aacute\;lint</strong></span></span><span style=\\"font-size\: small\;\\"><span style=\\"font-family\: Verdana\;\\"><br />
 </span></span></p>
 <p class=\\"rtecenter\\"><span style=\\"font-size\: medium\;\\"><span style=\\"font-family\: Verdana\;\\"><strong>T&Uuml\;K&Ouml\;R</strong></span></span><span style=\\"font-size\: small\;\\"><span style=\\"font-family\: Verdana\;\\"><strong> </strong><em>&iacute\;r&aacute\;s/k&eacute\;p</em><br />
 c&iacute\;mű <em>antik k&ouml\;nyv &eacute\;s lepke festm&eacute\;ny<br />
 </em><strong>ki&aacute\;ll&iacute\;t&aacute\;s</strong>&aacute\;ra<br />
 a Verseghy Ferenc Megyei K&ouml\;nyvt&aacute\;rba.<br />
 </span></span></p>
 <p class=\\"rtejustify\\"><span style=\\"font-size\: small\;\\"><span style=\\"font-family\: Verdana\;\\"><u>Megnyit&oacute\;\:</u> 2009. &aacute\;prilis 23. (cs&uuml\;t&ouml\;rt&ouml\;k) 17.00<br />
 <u>Megnyitja\:</u>&nbsp\;<strong>Szab&oacute\; R&oacute\;za</strong>\, Szolnok Megyei Jog&uacute\; V&aacute\;ros Oktat&aacute\;si\, Kultur&aacute\;lis &eacute\;s Sport Oszt&aacute\;ly&aacute\;nak vezetője<br />
 A ki&aacute\;ll&iacute\;t&aacute\;s j&uacute\;lius 24-ig tekinthető meg.<br />
 <br />
 </span></span></p>
END:VEVENT
END:VCALENDAR
